BEGIN:VCALENDAR
VERSION:2.0
PRODID:-//Biarritz Sports Retraite - ECPv6.15.20//NONSGML v1.0//EN
CALSCALE:GREGORIAN
METHOD:PUBLISH
X-WR-CALNAME:Biarritz Sports Retraite
X-ORIGINAL-URL:https://www.biarritzsportsretraite.fr
X-WR-CALDESC:Évènements pour Biarritz Sports Retraite
REFRESH-INTERVAL;VALUE=DURATION:PT1H
X-Robots-Tag:noindex
X-PUBLISHED-TTL:PT1H
BEGIN:VTIMEZONE
TZID:Europe/Paris
BEGIN:DAYLIGHT
TZOFFSETFROM:+0100
TZOFFSETTO:+0200
TZNAME:CEST
DTSTART:20240331T010000
END:DAYLIGHT
BEGIN:STANDARD
TZOFFSETFROM:+0200
TZOFFSETTO:+0100
TZNAME:CET
DTSTART:20241027T010000
END:STANDARD
BEGIN:DAYLIGHT
TZOFFSETFROM:+0100
TZOFFSETTO:+0200
TZNAME:CEST
DTSTART:20250330T010000
END:DAYLIGHT
BEGIN:STANDARD
TZOFFSETFROM:+0200
TZOFFSETTO:+0100
TZNAME:CET
DTSTART:20251026T010000
END:STANDARD
BEGIN:DAYLIGHT
TZOFFSETFROM:+0100
TZOFFSETTO:+0200
TZNAME:CEST
DTSTART:20260329T010000
END:DAYLIGHT
BEGIN:STANDARD
TZOFFSETFROM:+0200
TZOFFSETTO:+0100
TZNAME:CET
DTSTART:20261025T010000
END:STANDARD
END:VTIMEZONE
BEGIN:VEVENT
DTSTART;VALUE=DATE:20250411
DTEND;VALUE=DATE:20250412
DTSTAMP:20260419T201525
CREATED:20250110T160158Z
LAST-MODIFIED:20250202T173958Z
UID:10296-1744329600-1744415999@www.biarritzsportsretraite.fr
SUMMARY:Voyage Getaria / Lekeitio
DESCRIPTION:Le matin à Getaria\, visite du centre historique\, du port\, et du musée Balenciaga \nL’après midi\, visite du centre historique de Lekeitio
URL:https://www.biarritzsportsretraite.fr/index.php/event/voyage-leketio-getaria/
END:VEVENT
END:VCALENDAR