BEGIN:VCALENDAR
VERSION:2.0
PRODID:-//Biarritz Sports Retraite - ECPv6.15.20//NONSGML v1.0//EN
CALSCALE:GREGORIAN
METHOD:PUBLISH
X-WR-CALNAME:Biarritz Sports Retraite
X-ORIGINAL-URL:https://www.biarritzsportsretraite.fr
X-WR-CALDESC:Évènements pour Biarritz Sports Retraite
REFRESH-INTERVAL;VALUE=DURATION:PT1H
X-Robots-Tag:noindex
X-PUBLISHED-TTL:PT1H
BEGIN:VTIMEZONE
TZID:Europe/Paris
BEGIN:DAYLIGHT
TZOFFSETFROM:+0100
TZOFFSETTO:+0200
TZNAME:CEST
DTSTART:20230326T010000
END:DAYLIGHT
BEGIN:STANDARD
TZOFFSETFROM:+0200
TZOFFSETTO:+0100
TZNAME:CET
DTSTART:20231029T010000
END:STANDARD
BEGIN:DAYLIGHT
TZOFFSETFROM:+0100
TZOFFSETTO:+0200
TZNAME:CEST
DTSTART:20240331T010000
END:DAYLIGHT
BEGIN:STANDARD
TZOFFSETFROM:+0200
TZOFFSETTO:+0100
TZNAME:CET
DTSTART:20241027T010000
END:STANDARD
BEGIN:DAYLIGHT
TZOFFSETFROM:+0100
TZOFFSETTO:+0200
TZNAME:CEST
DTSTART:20250330T010000
END:DAYLIGHT
BEGIN:STANDARD
TZOFFSETFROM:+0200
TZOFFSETTO:+0100
TZNAME:CET
DTSTART:20251026T010000
END:STANDARD
END:VTIMEZONE
BEGIN:VEVENT
DTSTART;VALUE=DATE:20240826
DTEND;VALUE=DATE:20241011
DTSTAMP:20260420T083329
CREATED:20240717T143138Z
LAST-MODIFIED:20240823T131449Z
UID:9489-1724630400-1728604799@www.biarritzsportsretraite.fr
SUMMARY:Inscription 2024-2025 - Anciens membres\, en ligne via lien Jotform
DESCRIPTION:
URL:https://www.biarritzsportsretraite.fr/index.php/event/inscription-2024-2025-anciens-membres/
LOCATION:En ligne
END:VEVENT
BEGIN:VEVENT
DTSTART;VALUE=DATE:20240909
DTEND;VALUE=DATE:20241001
DTSTAMP:20260420T083329
CREATED:20240717T144056Z
LAST-MODIFIED:20240717T144240Z
UID:9499-1725840000-1727740799@www.biarritzsportsretraite.fr
SUMMARY:Inscription 2024-2025- Nouveaux membres - Sur site BSR
DESCRIPTION:
URL:https://www.biarritzsportsretraite.fr/index.php/event/inscription-2024-2025-nouveaux-membres-sur-site-bsr/
END:VEVENT
END:VCALENDAR