BEGIN:VCALENDAR
VERSION:2.0
PRODID:-//Biarritz Sports Retraite - ECPv6.15.20//NONSGML v1.0//EN
CALSCALE:GREGORIAN
METHOD:PUBLISH
X-WR-CALNAME:Biarritz Sports Retraite
X-ORIGINAL-URL:https://www.biarritzsportsretraite.fr
X-WR-CALDESC:Évènements pour Biarritz Sports Retraite
REFRESH-INTERVAL;VALUE=DURATION:PT1H
X-Robots-Tag:noindex
X-PUBLISHED-TTL:PT1H
BEGIN:VTIMEZONE
TZID:Europe/Paris
BEGIN:DAYLIGHT
TZOFFSETFROM:+0100
TZOFFSETTO:+0200
TZNAME:CEST
DTSTART:20230326T010000
END:DAYLIGHT
BEGIN:STANDARD
TZOFFSETFROM:+0200
TZOFFSETTO:+0100
TZNAME:CET
DTSTART:20231029T010000
END:STANDARD
BEGIN:DAYLIGHT
TZOFFSETFROM:+0100
TZOFFSETTO:+0200
TZNAME:CEST
DTSTART:20240331T010000
END:DAYLIGHT
BEGIN:STANDARD
TZOFFSETFROM:+0200
TZOFFSETTO:+0100
TZNAME:CET
DTSTART:20241027T010000
END:STANDARD
BEGIN:DAYLIGHT
TZOFFSETFROM:+0100
TZOFFSETTO:+0200
TZNAME:CEST
DTSTART:20250330T010000
END:DAYLIGHT
BEGIN:STANDARD
TZOFFSETFROM:+0200
TZOFFSETTO:+0100
TZNAME:CET
DTSTART:20251026T010000
END:STANDARD
END:VTIMEZONE
BEGIN:VEVENT
DTSTART;VALUE=DATE:20240603
DTEND;VALUE=DATE:20240608
DTSTAMP:20260420T130358
CREATED:20240109T091303Z
LAST-MODIFIED:20240528T124555Z
UID:8647-1717372800-1717804799@www.biarritzsportsretraite.fr
SUMMARY:Séjour rando en Andorre - PARKING IMPORTANT !!!
DESCRIPTION:Départ lundi 3 juin \nATTENTION: le parking habituel d’Iraty étant en travaux\, le lieu de Rendez-vous est de ce fait modifié! Ce sera au Parking AGUILERA\, entre l’arrière des tribunes\, et le Jaï-Alai.\n\nLe bus sera stationné vers 7h10\, pour chargement des bagages\, et appel des randonneurs.\n\nUn départ à 7h30 est impératif!
URL:https://www.biarritzsportsretraite.fr/index.php/event/sejour-rando-en-andorre/
END:VEVENT
END:VCALENDAR